BEGIN:VCALENDAR
VERSION:2.0
PRODID:-//Sickle Cell Association of South Louisiana - ECPv6.15.20//NONSGML v1.0//EN
CALSCALE:GREGORIAN
METHOD:PUBLISH
X-WR-CALNAME:Sickle Cell Association of South Louisiana
X-ORIGINAL-URL:https://scasl.org
X-WR-CALDESC:Events for Sickle Cell Association of South Louisiana
REFRESH-INTERVAL;VALUE=DURATION:PT1H
X-Robots-Tag:noindex
X-PUBLISHED-TTL:PT1H
BEGIN:VTIMEZONE
TZID:America/Chicago
BEGIN:DAYLIGHT
TZOFFSETFROM:-0600
TZOFFSETTO:-0500
TZNAME:CDT
DTSTART:20220313T080000
END:DAYLIGHT
BEGIN:STANDARD
TZOFFSETFROM:-0500
TZOFFSETTO:-0600
TZNAME:CST
DTSTART:20221106T070000
END:STANDARD
BEGIN:DAYLIGHT
TZOFFSETFROM:-0600
TZOFFSETTO:-0500
TZNAME:CDT
DTSTART:20230312T080000
END:DAYLIGHT
BEGIN:STANDARD
TZOFFSETFROM:-0500
TZOFFSETTO:-0600
TZNAME:CST
DTSTART:20231105T070000
END:STANDARD
BEGIN:DAYLIGHT
TZOFFSETFROM:-0600
TZOFFSETTO:-0500
TZNAME:CDT
DTSTART:20240310T080000
END:DAYLIGHT
BEGIN:STANDARD
TZOFFSETFROM:-0500
TZOFFSETTO:-0600
TZNAME:CST
DTSTART:20241103T070000
END:STANDARD
END:VTIMEZONE
BEGIN:VEVENT
DTSTART;TZID=America/Chicago:20230209T180000
DTEND;TZID=America/Chicago:20230209T190000
DTSTAMP:20260425T060346
CREATED:20230123T195939Z
LAST-MODIFIED:20230123T200256Z
UID:1002-1675965600-1675969200@scasl.org
SUMMARY:Client Support Group
DESCRIPTION:All meetings are currently being held via Zoom. Login links are provided in monthly newsletters.
URL:https://scasl.org/event/client-support-group/
END:VEVENT
BEGIN:VEVENT
DTSTART;TZID=America/Chicago:20230617T063000
DTEND;TZID=America/Chicago:20230617T090000
DTSTAMP:20260425T060346
CREATED:20220312T220248Z
LAST-MODIFIED:20230523T175232Z
UID:831-1686983400-1686992400@scasl.org
SUMMARY:2nd Annual Juneteenth Sickle Cell Anemia Walk
DESCRIPTION:Join us in celebrating Juneteenth and World Sickle Cell Day this June with the 2nd Annual Juneteenth Sickle Cell Anemia Walk. \nWe hope you can join us.\nClick Here To Register \n 
URL:https://scasl.org/event/juneteenth-sickle-cell-anemia-walk/
LOCATION:The Historic Heymann Park\, 1500 S. Orange\, Lafayette\, LA\, 70501
END:VEVENT
END:VCALENDAR