BEGIN:VCALENDAR
VERSION:2.0
PRODID:-//Sickle Cell Association of South Louisiana - ECPv6.15.20//NONSGML v1.0//EN
CALSCALE:GREGORIAN
METHOD:PUBLISH
X-WR-CALNAME:Sickle Cell Association of South Louisiana
X-ORIGINAL-URL:https://scasl.org
X-WR-CALDESC:Events for Sickle Cell Association of South Louisiana
REFRESH-INTERVAL;VALUE=DURATION:PT1H
X-Robots-Tag:noindex
X-PUBLISHED-TTL:PT1H
BEGIN:VTIMEZONE
TZID:America/Chicago
BEGIN:DAYLIGHT
TZOFFSETFROM:-0600
TZOFFSETTO:-0500
TZNAME:CDT
DTSTART:20220313T080000
END:DAYLIGHT
BEGIN:STANDARD
TZOFFSETFROM:-0500
TZOFFSETTO:-0600
TZNAME:CST
DTSTART:20221106T070000
END:STANDARD
BEGIN:DAYLIGHT
TZOFFSETFROM:-0600
TZOFFSETTO:-0500
TZNAME:CDT
DTSTART:20230312T080000
END:DAYLIGHT
BEGIN:STANDARD
TZOFFSETFROM:-0500
TZOFFSETTO:-0600
TZNAME:CST
DTSTART:20231105T070000
END:STANDARD
BEGIN:DAYLIGHT
TZOFFSETFROM:-0600
TZOFFSETTO:-0500
TZNAME:CDT
DTSTART:20240310T080000
END:DAYLIGHT
BEGIN:STANDARD
TZOFFSETFROM:-0500
TZOFFSETTO:-0600
TZNAME:CST
DTSTART:20241103T070000
END:STANDARD
END:VTIMEZONE
BEGIN:VEVENT
DTSTART;TZID=America/Chicago:20230926T180000
DTEND;TZID=America/Chicago:20230926T190000
DTSTAMP:20260425T130935
CREATED:20230810T201426Z
LAST-MODIFIED:20230810T201435Z
UID:1079-1695751200-1695754800@scasl.org
SUMMARY:SCD Workshop
DESCRIPTION:Join us in New Orleans to learn more about sickle cell disease. We have partnered with Louisiana Healthcare Connections for this special event. \nMore information coming soon. Save-the-date.
URL:https://scasl.org/event/scd-workshop/
LOCATION:New Orleans
END:VEVENT
END:VCALENDAR