BEGIN:VCALENDAR
VERSION:2.0
PRODID:-//Sickle Cell Association of South Louisiana - ECPv6.15.20//NONSGML v1.0//EN
CALSCALE:GREGORIAN
METHOD:PUBLISH
X-WR-CALNAME:Sickle Cell Association of South Louisiana
X-ORIGINAL-URL:https://scasl.org
X-WR-CALDESC:Events for Sickle Cell Association of South Louisiana
REFRESH-INTERVAL;VALUE=DURATION:PT1H
X-Robots-Tag:noindex
X-PUBLISHED-TTL:PT1H
BEGIN:VTIMEZONE
TZID:America/Chicago
BEGIN:DAYLIGHT
TZOFFSETFROM:-0600
TZOFFSETTO:-0500
TZNAME:CDT
DTSTART:20220313T080000
END:DAYLIGHT
BEGIN:STANDARD
TZOFFSETFROM:-0500
TZOFFSETTO:-0600
TZNAME:CST
DTSTART:20221106T070000
END:STANDARD
BEGIN:DAYLIGHT
TZOFFSETFROM:-0600
TZOFFSETTO:-0500
TZNAME:CDT
DTSTART:20230312T080000
END:DAYLIGHT
BEGIN:STANDARD
TZOFFSETFROM:-0500
TZOFFSETTO:-0600
TZNAME:CST
DTSTART:20231105T070000
END:STANDARD
BEGIN:DAYLIGHT
TZOFFSETFROM:-0600
TZOFFSETTO:-0500
TZNAME:CDT
DTSTART:20240310T080000
END:DAYLIGHT
BEGIN:STANDARD
TZOFFSETFROM:-0500
TZOFFSETTO:-0600
TZNAME:CST
DTSTART:20241103T070000
END:STANDARD
END:VTIMEZONE
BEGIN:VEVENT
DTSTART;TZID=America/Chicago:20230919T150000
DTEND;TZID=America/Chicago:20230919T190000
DTSTAMP:20260425T130848
CREATED:20230913T022656Z
LAST-MODIFIED:20230913T022656Z
UID:1109-1695135600-1695150000@scasl.org
SUMMARY:Sickle Cell Awareness Blood Drive
DESCRIPTION:The SCASL is partnering with Executive Lady to host a blood drive in support of Sickle Cell Awareness Month and Alexander Weaver Jr.Weaver was born with sickle cell anemia and has received an influx of blood transfusions recently. Because of this he wanted to give back by hosting a blood drive. \nJoin us on Tuesday\, Sept. 19 between 3-7 p.m. at River House Apartments. There will be food\, giveaways\, SCD education\, and more.
URL:https://scasl.org/event/sickle-cell-awareness-blood-drive/
LOCATION:River House Apartment\, 101 River House Place\, Baton Rouge\, 70802\, United States
END:VEVENT
END:VCALENDAR